BEGIN:VCALENDAR
VERSION:2.0
PRODID:-//hacksw/handcal//NONSGML v1.0//EN
BEGIN:VEVENT
SUMMARY:Vendredi 15H30 Sportif
UID:1947ac4a-6768-42ba-96f3-7109fb5cc4da
DTSTART:20260220T230000Z
DTEND:20260221T230000Z
LOCATION:Localisation   
CATEGORIES:Sportif
STATUS:
URL;VALUE=URI:https://longeteam34.sportsregions.fr/evenements/2026/02/21/vendredi-15h30-sportif-2245327
END:VEVENT
END:VCALENDAR
