BEGIN:VCALENDAR
VERSION:2.0
PRODID:-//hacksw/handcal//NONSGML v1.0//EN
BEGIN:VEVENT
SUMMARY:Vendredi 15H30 Sportif
UID:c2f9c395-56eb-43d0-81e6-c98eb8f36452
DTSTART:20260312T230000Z
DTEND:20260313T230000Z
LOCATION:Localisation   
CATEGORIES:Sportif
STATUS:
URL;VALUE=URI:https://longeteam34.sportsregions.fr/evenements/2026/03/13/vendredi-15h30-sportif-2245329
END:VEVENT
END:VCALENDAR
