BEGIN:VCALENDAR
VERSION:2.0
PRODID:-//hacksw/handcal//NONSGML v1.0//EN
BEGIN:VEVENT
SUMMARY:Mercredi 18H30 Sportif
UID:aa696426-b84f-44ca-8de3-816d0317c4da
DTSTART:20260421T220000Z
DTEND:20260422T220000Z
LOCATION:Localisation   
CATEGORIES:Sportif
STATUS:
URL;VALUE=URI:https://longeteam34.sportsregions.fr/evenements/2026/04/22/mercredi-18h30-sportif-2430938
END:VEVENT
END:VCALENDAR
