BEGIN:VCALENDAR
VERSION:2.0
PRODID:-//hacksw/handcal//NONSGML v1.0//EN
BEGIN:VEVENT
SUMMARY:Lundi 18h30 - Marche - Prepa trail longe-cote
UID:d569edc0-60f4-4238-8a42-c223c857fa14
DTSTART:20260427T163000Z
DTEND:20260427T173000Z
LOCATION:Localisation   
CATEGORIES:Sportif
STATUS:
URL;VALUE=URI:https://longeteam34.sportsregions.fr/evenements/2026/04/27/lundi-18h30-marche-prepa-trail-longe-cote-2430936
END:VEVENT
END:VCALENDAR
