BEGIN:VCALENDAR
VERSION:2.0
PRODID:-//hacksw/handcal//NONSGML v1.0//EN
BEGIN:VEVENT
SUMMARY:Mercredi 18H30 Sportif
UID:0892dd38-6fe2-4e20-814a-75323c36a36a
DTSTART:20260428T220000Z
DTEND:20260429T220000Z
LOCATION:Localisation   
CATEGORIES:Sportif
STATUS:
URL;VALUE=URI:https://longeteam34.sportsregions.fr/evenements/2026/04/29/mercredi-18h30-sportif-2245299
END:VEVENT
END:VCALENDAR
