BEGIN:VCALENDAR
VERSION:2.0
PRODID:-//hacksw/handcal//NONSGML v1.0//EN
BEGIN:VEVENT
SUMMARY:Samedi 10H30 Relax Toniques
UID:96849681-948c-4e65-9dd7-465364e6437f
DTSTART:20260501T220000Z
DTEND:20260502T220000Z
LOCATION:Localisation   
CATEGORIES:Sportif
STATUS:
URL;VALUE=URI:https://longeteam34.sportsregions.fr/evenements/2026/05/02/samedi-10h30-relax-toniques-2245261
END:VEVENT
END:VCALENDAR
