BEGIN:VCALENDAR
VERSION:2.0
PRODID:-//hacksw/handcal//NONSGML v1.0//EN
BEGIN:VEVENT
SUMMARY:Samedi 9H15 Sportif
UID:2dadbe79-c88d-47a0-b21c-53ae01e6c3d8
DTSTART:20260502T071500Z
DTEND:20260502T081500Z
LOCATION:Localisation   
CATEGORIES:Sportif
STATUS:
URL;VALUE=URI:https://longeteam34.sportsregions.fr/evenements/2026/05/02/samedi-9h15-sportif-2443284
END:VEVENT
END:VCALENDAR
