BEGIN:VCALENDAR
VERSION:2.0
PRODID:-//hacksw/handcal//NONSGML v1.0//EN
BEGIN:VEVENT
SUMMARY:Lundi 14H00 Relax Toniques
UID:33637748-e9f4-431a-8617-1ed9c9f270a9
DTSTART:20260504T120000Z
DTEND:20260504T130000Z
LOCATION:Localisation   
CATEGORIES:Sportif
STATUS:
URL;VALUE=URI:https://longeteam34.sportsregions.fr/evenements/2026/05/04/lundi-14h00-relax-toniques-2245186
END:VEVENT
END:VCALENDAR
