BEGIN:VCALENDAR
VERSION:2.0
PRODID:-//hacksw/handcal//NONSGML v1.0//EN
BEGIN:VEVENT
SUMMARY:Lundi 18h30 - Marche - Prepa trail longe-cote
UID:9293ca81-3e9e-458d-9acb-17e57e4c9fe8
DTSTART:20260504T163000Z
DTEND:20260504T173000Z
LOCATION:Localisation   
CATEGORIES:Sportif
STATUS:
URL;VALUE=URI:https://longeteam34.sportsregions.fr/evenements/2026/05/04/lundi-18h30-marche-prepa-trail-longe-cote-2397772
END:VEVENT
END:VCALENDAR
