BEGIN:VCALENDAR
VERSION:2.0
PRODID:-//hacksw/handcal//NONSGML v1.0//EN
BEGIN:VEVENT
SUMMARY:Mercredi 18H30 Relax Toniques
UID:cda0e676-0377-40cd-8339-e0796f05d170
DTSTART:20260505T220000Z
DTEND:20260506T220000Z
LOCATION:Localisation   
CATEGORIES:Sportif
STATUS:
URL;VALUE=URI:https://longeteam34.sportsregions.fr/evenements/2026/05/06/mercredi-18h30-relax-toniques-2245224
END:VEVENT
END:VCALENDAR
