BEGIN:VCALENDAR
VERSION:2.0
PRODID:-//hacksw/handcal//NONSGML v1.0//EN
BEGIN:VEVENT
SUMMARY:Mercredi 18H30 Sportif
UID:a9e0462f-7618-499a-814d-99a42ba5e0b9
DTSTART:20260505T220000Z
DTEND:20260506T220000Z
LOCATION:Localisation   
CATEGORIES:Sportif
STATUS:
URL;VALUE=URI:https://longeteam34.sportsregions.fr/evenements/2026/05/06/mercredi-18h30-sportif-2245300
END:VEVENT
END:VCALENDAR
