BEGIN:VCALENDAR
VERSION:2.0
PRODID:-//hacksw/handcal//NONSGML v1.0//EN
BEGIN:VEVENT
SUMMARY:Vendredi 10H30 Mix
UID:fe949d5f-c8e1-4091-872c-63597b67d514
DTSTART:20260508T083000Z
DTEND:20260508T093000Z
LOCATION:Localisation   
CATEGORIES:Sportif
STATUS:
URL;VALUE=URI:https://longeteam34.sportsregions.fr/evenements/2026/05/08/vendredi-10h30-mix-2443285
END:VEVENT
END:VCALENDAR
