BEGIN:VCALENDAR
VERSION:2.0
PRODID:-//hacksw/handcal//NONSGML v1.0//EN
BEGIN:VEVENT
SUMMARY:Samedi 10H30 Relax Toniques
UID:92eafe5f-def6-484b-a074-35072e5604ba
DTSTART:20260508T220000Z
DTEND:20260509T220000Z
LOCATION:Localisation   
CATEGORIES:Sportif
STATUS:
URL;VALUE=URI:https://longeteam34.sportsregions.fr/evenements/2026/05/09/samedi-10h30-relax-toniques-2245262
END:VEVENT
END:VCALENDAR
