BEGIN:VCALENDAR
VERSION:2.0
PRODID:-//hacksw/handcal//NONSGML v1.0//EN
BEGIN:VEVENT
SUMMARY:Lundi 14H00 Relax Toniques
UID:d74d1e4c-ab41-4cbe-a324-ef69caf4588f
DTSTART:20260511T120000Z
DTEND:20260511T130000Z
LOCATION:Localisation   
CATEGORIES:Sportif
STATUS:
URL;VALUE=URI:https://longeteam34.sportsregions.fr/evenements/2026/05/11/lundi-14h00-relax-toniques-2245187
END:VEVENT
END:VCALENDAR
