BEGIN:VCALENDAR
VERSION:2.0
PRODID:-//hacksw/handcal//NONSGML v1.0//EN
BEGIN:VEVENT
SUMMARY:Lundi 18h30 - Marche - Prepa trail longe-cote
UID:0eabab69-dd24-47db-a0cd-711ac66b39dc
DTSTART:20260511T163000Z
DTEND:20260511T173000Z
LOCATION:Localisation   
CATEGORIES:Sportif
STATUS:
URL;VALUE=URI:https://longeteam34.sportsregions.fr/evenements/2026/05/11/lundi-18h30-marche-prepa-trail-longe-cote-2397771
END:VEVENT
END:VCALENDAR
