BEGIN:VCALENDAR
VERSION:2.0
PRODID:-//hacksw/handcal//NONSGML v1.0//EN
BEGIN:VEVENT
SUMMARY:Mercredi 18H30 Relax Toniques
UID:e13e3a38-5f71-4291-982d-a6a15833d026
DTSTART:20260512T220000Z
DTEND:20260513T220000Z
LOCATION:Localisation   
CATEGORIES:Sportif
STATUS:
URL;VALUE=URI:https://longeteam34.sportsregions.fr/evenements/2026/05/13/mercredi-18h30-relax-toniques-2245225
END:VEVENT
END:VCALENDAR
