BEGIN:VCALENDAR
VERSION:2.0
PRODID:-//hacksw/handcal//NONSGML v1.0//EN
BEGIN:VEVENT
SUMMARY:Mercredi 18H30 Sportif
UID:5f6a8b14-9cb2-4c8d-9e99-0a975bb65414
DTSTART:20260512T220000Z
DTEND:20260513T220000Z
LOCATION:Localisation   
CATEGORIES:Sportif
STATUS:
URL;VALUE=URI:https://longeteam34.sportsregions.fr/evenements/2026/05/13/mercredi-18h30-sportif-2245301
END:VEVENT
END:VCALENDAR
