BEGIN:VCALENDAR
VERSION:2.0
PRODID:-//hacksw/handcal//NONSGML v1.0//EN
BEGIN:VEVENT
SUMMARY:Vendredi 16H30 Sportif
UID:670bdbb0-6641-4fc4-bc8e-0c98b2761d80
DTSTART:20260514T220000Z
DTEND:20260515T220000Z
LOCATION:Localisation   
CATEGORIES:Sportif
STATUS:
URL;VALUE=URI:https://longeteam34.sportsregions.fr/evenements/2026/05/15/vendredi-16h30-sportif-2245337
END:VEVENT
END:VCALENDAR
