BEGIN:VCALENDAR
VERSION:2.0
PRODID:-//hacksw/handcal//NONSGML v1.0//EN
BEGIN:VEVENT
SUMMARY:Samedi 10H30 Relax Toniques
UID:3a9d61a6-e57a-48ef-8213-646852fe2216
DTSTART:20260515T220000Z
DTEND:20260516T220000Z
LOCATION:Localisation   
CATEGORIES:Sportif
STATUS:
URL;VALUE=URI:https://longeteam34.sportsregions.fr/evenements/2026/05/16/samedi-10h30-relax-toniques-2245263
END:VEVENT
END:VCALENDAR
