BEGIN:VCALENDAR
VERSION:2.0
PRODID:-//hacksw/handcal//NONSGML v1.0//EN
BEGIN:VEVENT
SUMMARY:Dimanche 10H30 Mix Sport et Convivialite
UID:1dbb1c78-0754-4b93-8e84-c70b3fd1bc38
DTSTART:20260517T083000Z
DTEND:20260517T093000Z
LOCATION:Localisation   
CATEGORIES:Sportif
STATUS:
URL;VALUE=URI:https://longeteam34.sportsregions.fr/evenements/2026/05/17/dimanche-10h30-mix-sport-et-convivialite-2245374
END:VEVENT
END:VCALENDAR
