BEGIN:VCALENDAR
VERSION:2.0
PRODID:-//hacksw/handcal//NONSGML v1.0//EN
BEGIN:VEVENT
SUMMARY:Lundi 14H00 Relax Toniques
UID:93381c0f-35ad-48d3-b439-c8904be79bfb
DTSTART:20260518T120000Z
DTEND:20260518T130000Z
LOCATION:Localisation   
CATEGORIES:Sportif
STATUS:
URL;VALUE=URI:https://longeteam34.sportsregions.fr/evenements/2026/05/18/lundi-14h00-relax-toniques-2245188
END:VEVENT
END:VCALENDAR
