BEGIN:VCALENDAR
VERSION:2.0
PRODID:-//hacksw/handcal//NONSGML v1.0//EN
BEGIN:VEVENT
SUMMARY:Lundi 18h30 - Marche - Prepa trail longe-cote
UID:5391b659-da30-460c-9f43-d24f41463414
DTSTART:20260518T163000Z
DTEND:20260518T173000Z
LOCATION:Localisation   
CATEGORIES:Sportif
STATUS:
URL;VALUE=URI:https://longeteam34.sportsregions.fr/evenements/2026/05/18/lundi-18h30-marche-prepa-trail-longe-cote-2397770
END:VEVENT
END:VCALENDAR
