BEGIN:VCALENDAR
VERSION:2.0
PRODID:-//hacksw/handcal//NONSGML v1.0//EN
BEGIN:VEVENT
SUMMARY:Mercredi 18H30 Sportif
UID:23f68808-e717-41f4-ae50-69121ecec43f
DTSTART:20260519T220000Z
DTEND:20260520T220000Z
LOCATION:Localisation   
CATEGORIES:Sportif
STATUS:
URL;VALUE=URI:https://longeteam34.sportsregions.fr/evenements/2026/05/20/mercredi-18h30-sportif-2245302
END:VEVENT
END:VCALENDAR
