BEGIN:VCALENDAR
VERSION:2.0
PRODID:-//hacksw/handcal//NONSGML v1.0//EN
BEGIN:VEVENT
SUMMARY:Vendredi 16H30 Sportif
UID:1a754c0d-5441-4fad-be77-45c84148ba76
DTSTART:20260521T220000Z
DTEND:20260522T220000Z
LOCATION:Localisation   
CATEGORIES:Sportif
STATUS:
URL;VALUE=URI:https://longeteam34.sportsregions.fr/evenements/2026/05/22/vendredi-16h30-sportif-2245338
END:VEVENT
END:VCALENDAR
