BEGIN:VCALENDAR
VERSION:2.0
PRODID:-//hacksw/handcal//NONSGML v1.0//EN
BEGIN:VEVENT
SUMMARY:Samedi 10H30 Relax Toniques
UID:6389343c-8c21-4e1d-87bc-1bda4c3b32a7
DTSTART:20260522T220000Z
DTEND:20260523T220000Z
LOCATION:Localisation   
CATEGORIES:Sportif
STATUS:
URL;VALUE=URI:https://longeteam34.sportsregions.fr/evenements/2026/05/23/samedi-10h30-relax-toniques-2245264
END:VEVENT
END:VCALENDAR
