BEGIN:VCALENDAR
VERSION:2.0
PRODID:-//hacksw/handcal//NONSGML v1.0//EN
BEGIN:VEVENT
SUMMARY:Dimanche 10H30 Mix Sport et Convivialite
UID:3b5ba70e-2d51-4eb9-96c9-50d7fa4cb930
DTSTART:20260524T083000Z
DTEND:20260524T093000Z
LOCATION:Localisation   
CATEGORIES:Sportif
STATUS:
URL;VALUE=URI:https://longeteam34.sportsregions.fr/evenements/2026/05/24/dimanche-10h30-mix-sport-et-convivialite-2245375
END:VEVENT
END:VCALENDAR
