BEGIN:VCALENDAR
VERSION:2.0
PRODID:-//hacksw/handcal//NONSGML v1.0//EN
BEGIN:VEVENT
SUMMARY:Lundi 14H00 Relax Toniques
UID:00f17180-16f1-49fe-a418-0b53fe5656ce
DTSTART:20260525T120000Z
DTEND:20260525T130000Z
LOCATION:Localisation   
CATEGORIES:Sportif
STATUS:
URL;VALUE=URI:https://longeteam34.sportsregions.fr/evenements/2026/05/25/lundi-14h00-relax-toniques-2245189
END:VEVENT
END:VCALENDAR
