BEGIN:VCALENDAR
VERSION:2.0
PRODID:-//hacksw/handcal//NONSGML v1.0//EN
BEGIN:VEVENT
SUMMARY:Lundi 18h30 - Marche - Prepa trail longe-cote
UID:82a2d37a-9ab9-4bb8-8090-dfdcb93bcd10
DTSTART:20260525T163000Z
DTEND:20260525T173000Z
LOCATION:Localisation   
CATEGORIES:Sportif
STATUS:
URL;VALUE=URI:https://longeteam34.sportsregions.fr/evenements/2026/05/25/lundi-18h30-marche-prepa-trail-longe-cote-2397769
END:VEVENT
END:VCALENDAR
