BEGIN:VCALENDAR
VERSION:2.0
PRODID:-//hacksw/handcal//NONSGML v1.0//EN
BEGIN:VEVENT
SUMMARY:Mercredi 18H30 Relax Toniques
UID:79196da5-c137-4b89-8c7e-95d87d7266c7
DTSTART:20260526T220000Z
DTEND:20260527T220000Z
LOCATION:Localisation   
CATEGORIES:Sportif
STATUS:
URL;VALUE=URI:https://longeteam34.sportsregions.fr/evenements/2026/05/27/mercredi-18h30-relax-toniques-2245227
END:VEVENT
END:VCALENDAR
