BEGIN:VCALENDAR
VERSION:2.0
PRODID:-//hacksw/handcal//NONSGML v1.0//EN
BEGIN:VEVENT
SUMMARY:Mercredi 18H30 Sportif
UID:529b8225-2420-43ff-a0a1-604309016d02
DTSTART:20260526T220000Z
DTEND:20260527T220000Z
LOCATION:Localisation   
CATEGORIES:Sportif
STATUS:
URL;VALUE=URI:https://longeteam34.sportsregions.fr/evenements/2026/05/27/mercredi-18h30-sportif-2245303
END:VEVENT
END:VCALENDAR
