BEGIN:VCALENDAR
VERSION:2.0
PRODID:-//hacksw/handcal//NONSGML v1.0//EN
BEGIN:VEVENT
SUMMARY:Vendredi 16H30 Sportif
UID:f9745b7a-5c4f-417a-a77d-ba911725afc1
DTSTART:20260528T220000Z
DTEND:20260529T220000Z
LOCATION:Localisation   
CATEGORIES:Sportif
STATUS:
URL;VALUE=URI:https://longeteam34.sportsregions.fr/evenements/2026/05/29/vendredi-16h30-sportif-2245339
END:VEVENT
END:VCALENDAR
