BEGIN:VCALENDAR
VERSION:2.0
PRODID:-//hacksw/handcal//NONSGML v1.0//EN
BEGIN:VEVENT
SUMMARY:Dimanche 10H30 Mix Sport et Convivialite
UID:e211a351-b07a-4aa4-894f-62b7c4844c47
DTSTART:20260531T083000Z
DTEND:20260531T093000Z
LOCATION:Localisation   
CATEGORIES:Sportif
STATUS:
URL;VALUE=URI:https://longeteam34.sportsregions.fr/evenements/2026/05/31/dimanche-10h30-mix-sport-et-convivialite-2245376
END:VEVENT
END:VCALENDAR
